Package: diffUTR Version: 1.19.0 Command: /home/biocbuild/bbs-3.23-bioc/R/bin/R CMD INSTALL diffUTR StartedAt: 2025-11-05 15:49:06 -0500 (Wed, 05 Nov 2025) EndedAt: 2025-11-05 15:49:51 -0500 (Wed, 05 Nov 2025) EllapsedTime: 45.0 seconds RetCode: 0 Status: OK