Package: diffUTR Version: 1.17.0 Command: /home/biocbuild/R/R/bin/R CMD build --keep-empty-dirs --no-resave-data diffUTR StartedAt: 2025-10-13 23:50:23 -0000 (Mon, 13 Oct 2025) EndedAt: 2025-10-13 23:52:05 -0000 (Mon, 13 Oct 2025) EllapsedTime: 102.0 seconds RetCode: 0 Status: OK PackageFile: diffUTR_1.17.0.tar.gz PackageFileSize: 1.144 MiB