Package: diffcoexp Version: 1.31.0 Command: /home/biocbuild/bbs-3.23-bioc/R/bin/R CMD build --keep-empty-dirs --no-resave-data diffcoexp StartedAt: 2025-11-06 17:13:49 -0500 (Thu, 06 Nov 2025) EndedAt: 2025-11-06 17:14:32 -0500 (Thu, 06 Nov 2025) EllapsedTime: 43.0 seconds RetCode: 0 Status: OK PackageFile: diffcoexp_1.31.0.tar.gz PackageFileSize: 294.1 KiB