Package: diffcoexp Version: 1.31.0 Command: /home/biocbuild/bbs-3.23-bioc/R/bin/R CMD INSTALL diffcoexp StartedAt: 2025-11-06 15:43:56 -0500 (Thu, 06 Nov 2025) EndedAt: 2025-11-06 15:44:28 -0500 (Thu, 06 Nov 2025) EllapsedTime: 31.1 seconds RetCode: 0 Status: OK