Package: diffcyt Version: 1.31.0 Command: /home/biocbuild/bbs-3.23-bioc/R/bin/R CMD build --keep-empty-dirs --no-resave-data diffcyt StartedAt: 2025-11-04 17:13:44 -0500 (Tue, 04 Nov 2025) EndedAt: 2025-11-04 17:15:22 -0500 (Tue, 04 Nov 2025) EllapsedTime: 98.1 seconds RetCode: 0 Status: OK PackageFile: diffcyt_1.31.0.tar.gz PackageFileSize: 895.3 KiB