Package: diffcyt Version: 1.31.0 Command: /home/biocbuild/bbs-3.23-bioc/R/bin/R CMD INSTALL diffcyt StartedAt: 2025-11-04 15:21:37 -0500 (Tue, 04 Nov 2025) EndedAt: 2025-11-04 15:22:10 -0500 (Tue, 04 Nov 2025) EllapsedTime: 32.4 seconds RetCode: 0 Status: OK