Package: diffuStats Version: 1.29.0 Command: /home/biocbuild/R/R/bin/R CMD build --keep-empty-dirs --no-resave-data diffuStats StartedAt: 2025-10-13 23:50:19 -0000 (Mon, 13 Oct 2025) EndedAt: 2025-10-13 23:51:06 -0000 (Mon, 13 Oct 2025) EllapsedTime: 47.0 seconds RetCode: 1 Status: ERROR PackageFile: None PackageFileSize: NA