Package: diffuStats Version: 1.29.0 Command: /home/biocbuild/R/R/bin/R CMD INSTALL diffuStats StartedAt: 2025-10-16 21:16:34 -0000 (Thu, 16 Oct 2025) EndedAt: 2025-10-16 21:17:57 -0000 (Thu, 16 Oct 2025) EllapsedTime: 83.2 seconds RetCode: 0 Status: OK