Package: epidecodeR Version: 1.17.0 Command: rm -rf epidecodeR.buildbin-libdir && mkdir epidecodeR.buildbin-libdir && /Users/biocbuild/BBS/utils/build-universal.sh epidecodeR_1.17.0.tar.gz /Library/Frameworks/R.framework/Resources/bin/R epidecodeR.buildbin-libdir StartedAt: 2025-10-10 22:40:11 -0400 (Fri, 10 Oct 2025) EndedAt: 2025-10-10 22:40:27 -0400 (Fri, 10 Oct 2025) EllapsedTime: 15.3 seconds RetCode: 0 Status: OK PackageFile: epidecodeR_1.17.0.tgz PackageFileSize: 1.949 MiB