Package: epidecodeR Version: 1.17.0 Command: /Library/Frameworks/R.framework/Resources/bin/R CMD build --keep-empty-dirs --no-resave-data epidecodeR StartedAt: 2025-10-10 16:20:22 -0400 (Fri, 10 Oct 2025) EndedAt: 2025-10-10 16:20:43 -0400 (Fri, 10 Oct 2025) EllapsedTime: 21.2 seconds RetCode: 0 Status: OK PackageFile: epidecodeR_1.17.0.tar.gz PackageFileSize: 2.065 MiB