Package: epidecodeR Version: 1.17.0 Command: /Library/Frameworks/R.framework/Resources/bin/R CMD INSTALL epidecodeR StartedAt: 2025-10-10 15:18:28 -0400 (Fri, 10 Oct 2025) EndedAt: 2025-10-10 15:18:41 -0400 (Fri, 10 Oct 2025) EllapsedTime: 13.1 seconds RetCode: 0 Status: OK