Package: epidecodeR Version: 1.17.0 Command: /Library/Frameworks/R.framework/Resources/bin/R CMD INSTALL epidecodeR StartedAt: 2025-10-24 15:34:40 -0400 (Fri, 24 Oct 2025) EndedAt: 2025-10-24 15:35:24 -0400 (Fri, 24 Oct 2025) EllapsedTime: 44.1 seconds RetCode: 0 Status: OK