Package: epidecodeR Version: 1.19.0 Command: /home/biocbuild/bbs-3.23-bioc/R/bin/R CMD INSTALL epidecodeR StartedAt: 2025-11-16 15:27:27 -0500 (Sun, 16 Nov 2025) EndedAt: 2025-11-16 15:27:59 -0500 (Sun, 16 Nov 2025) EllapsedTime: 32.5 seconds RetCode: 0 Status: OK