Package: fastseg Version: 1.55.0 Command: /home/biocbuild/bbs-3.22-bioc/R/bin/R CMD INSTALL fastseg StartedAt: 2025-10-03 15:23:31 -0400 (Fri, 03 Oct 2025) EndedAt: 2025-10-03 15:23:43 -0400 (Fri, 03 Oct 2025) EllapsedTime: 11.2 seconds RetCode: 0 Status: OK