Package: flowMerge Version: 2.57.0 Command: /home/biocbuild/bbs-3.22-bioc/R/bin/R CMD build --keep-empty-dirs --no-resave-data --md5 flowMerge StartedAt: 2025-10-23 17:43:43 -0400 (Thu, 23 Oct 2025) EndedAt: 2025-10-23 17:44:22 -0400 (Thu, 23 Oct 2025) EllapsedTime: 39.1 seconds RetCode: 0 Status: OK PackageFile: flowMerge_2.57.0.tar.gz PackageFileSize: 597.3 KiB