Package: flowMerge Version: 2.57.0 Command: /home/biocbuild/bbs-3.22-bioc/R/bin/R CMD INSTALL flowMerge StartedAt: 2025-10-23 15:57:44 -0400 (Thu, 23 Oct 2025) EndedAt: 2025-10-23 15:58:03 -0400 (Thu, 23 Oct 2025) EllapsedTime: 19.3 seconds RetCode: 0 Status: OK