Package: getDEE2 Version: 1.19.3 Command: /home/biocbuild/bbs-3.22-bioc/R/bin/R CMD build --keep-empty-dirs --no-resave-data --md5 getDEE2 StartedAt: 2025-10-12 17:47:15 -0400 (Sun, 12 Oct 2025) EndedAt: 2025-10-12 17:49:13 -0400 (Sun, 12 Oct 2025) EllapsedTime: 118.1 seconds RetCode: 0 Status: OK PackageFile: getDEE2_1.19.3.tar.gz PackageFileSize: 24.42 KiB