Package: ggtree Version: 4.1.1 Command: /home/biocbuild/bbs-3.23-bioc/R/bin/R CMD INSTALL ggtree StartedAt: 2025-11-03 15:10:02 -0500 (Mon, 03 Nov 2025) EndedAt: 2025-11-03 15:10:14 -0500 (Mon, 03 Nov 2025) EllapsedTime: 11.8 seconds RetCode: 0 Status: OK