Package: glmSparseNet Version: 1.29.0 Maintainer: André Veríssimo MaintainerEmail: andre.verissimo at tecnico.ulisboa.pt git_url: https://git.bioconductor.org/packages/glmSparseNet git_branch: devel git_last_commit: 4e68566 git_last_commit_date: 2025-10-29 10:47:42 -0400 (Wed, 29 Oct 2025)