Package: glmSparseNet Version: 1.29.0 Command: /home/biocbuild/bbs-3.23-bioc/R/bin/R CMD INSTALL glmSparseNet StartedAt: 2025-11-07 15:43:24 -0500 (Fri, 07 Nov 2025) EndedAt: 2025-11-07 15:43:28 -0500 (Fri, 07 Nov 2025) EllapsedTime: 3.5 seconds RetCode: 0 Status: OK