Package: glmSparseNet Version: 1.27.0 Command: /home/biocbuild/bbs-3.22-bioc/R/bin/R CMD build --keep-empty-dirs --no-resave-data --md5 glmSparseNet StartedAt: 2025-07-18 17:24:11 -0400 (Fri, 18 Jul 2025) EndedAt: 2025-07-18 17:27:59 -0400 (Fri, 18 Jul 2025) EllapsedTime: 227.2 seconds RetCode: 0 Status: OK PackageFile: glmSparseNet_1.27.0.tar.gz PackageFileSize: 2.83 MiB