Package: glmSparseNet Version: 1.27.0 Command: /home/biocbuild/bbs-3.22-bioc/R/bin/R CMD INSTALL glmSparseNet StartedAt: 2025-07-18 15:41:27 -0400 (Fri, 18 Jul 2025) EndedAt: 2025-07-18 15:41:31 -0400 (Fri, 18 Jul 2025) EllapsedTime: 3.1 seconds RetCode: 0 Status: OK