Package: goTools Version: 1.83.0 Command: /home/biocbuild/bbs-3.22-bioc/R/bin/R CMD INSTALL goTools StartedAt: 2025-10-05 15:40:49 -0400 (Sun, 05 Oct 2025) EndedAt: 2025-10-05 15:41:01 -0400 (Sun, 05 Oct 2025) EllapsedTime: 12.1 seconds RetCode: 0 Status: OK