Package: gsean Version: 1.29.0 Command: /home/biocbuild/bbs-3.22-bioc/R/bin/R CMD build --keep-empty-dirs --no-resave-data --md5 gsean StartedAt: 2025-10-20 17:56:49 -0400 (Mon, 20 Oct 2025) EndedAt: 2025-10-20 17:57:54 -0400 (Mon, 20 Oct 2025) EllapsedTime: 65.1 seconds RetCode: 0 Status: OK PackageFile: gsean_1.29.0.tar.gz PackageFileSize: 1.535 MiB