Package: gsean Version: 1.29.0 Command: /home/biocbuild/bbs-3.22-bioc/R/bin/R CMD INSTALL gsean StartedAt: 2025-10-20 15:30:54 -0400 (Mon, 20 Oct 2025) EndedAt: 2025-10-20 15:31:17 -0400 (Mon, 20 Oct 2025) EllapsedTime: 23.2 seconds RetCode: 0 Status: OK