Package: hypergraph Version: 1.83.0 Command: /Library/Frameworks/R.framework/Resources/bin/R CMD build --keep-empty-dirs --no-resave-data hypergraph StartedAt: 2025-11-20 16:39:56 -0500 (Thu, 20 Nov 2025) EndedAt: 2025-11-20 16:39:57 -0500 (Thu, 20 Nov 2025) EllapsedTime: 1.0 seconds RetCode: 0 Status: OK PackageFile: hypergraph_1.83.0.tar.gz PackageFileSize: 8.27 KiB