Package: hypergraph Version: 1.83.0 Command: /Library/Frameworks/R.framework/Resources/bin/R CMD INSTALL hypergraph StartedAt: 2025-11-20 15:07:30 -0500 (Thu, 20 Nov 2025) EndedAt: 2025-11-20 15:07:33 -0500 (Thu, 20 Nov 2025) EllapsedTime: 2.4 seconds RetCode: 0 Status: OK