Package: iNETgrate Version: 1.7.0 Command: /home/biocbuild/bbs-3.22-bioc/R/bin/R CMD build --keep-empty-dirs --no-resave-data --md5 iNETgrate StartedAt: 2025-10-13 18:15:04 -0400 (Mon, 13 Oct 2025) EndedAt: 2025-10-13 18:18:43 -0400 (Mon, 13 Oct 2025) EllapsedTime: 219.2 seconds RetCode: 0 Status: OK PackageFile: iNETgrate_1.7.0.tar.gz PackageFileSize: 3.981 MiB