Package: iSEEtree Version: 1.5.0 Command: /home/biocbuild/bbs-3.23-bioc/R/bin/R CMD INSTALL iSEEtree StartedAt: 2025-11-05 16:04:03 -0500 (Wed, 05 Nov 2025) EndedAt: 2025-11-05 16:04:50 -0500 (Wed, 05 Nov 2025) EllapsedTime: 47.6 seconds RetCode: 0 Status: OK