Package: immunogenViewer Version: 1.3.1 Command: /home/biocbuild/bbs-3.22-bioc/R/bin/R CMD build --keep-empty-dirs --no-resave-data --md5 immunogenViewer StartedAt: 2025-10-12 18:09:57 -0400 (Sun, 12 Oct 2025) EndedAt: 2025-10-12 18:10:37 -0400 (Sun, 12 Oct 2025) EllapsedTime: 40.0 seconds RetCode: 0 Status: OK PackageFile: immunogenViewer_1.3.1.tar.gz PackageFileSize: 569.8 KiB