Package: interactiveDisplayBase Version: 1.47.1 Command: /home/biocbuild/bbs-3.22-bioc/R/bin/R CMD build --keep-empty-dirs --no-resave-data --md5 interactiveDisplayBase StartedAt: 2025-07-01 17:43:45 -0400 (Tue, 01 Jul 2025) EndedAt: 2025-07-01 17:43:50 -0400 (Tue, 01 Jul 2025) EllapsedTime: 5.0 seconds RetCode: 0 Status: OK PackageFile: interactiveDisplayBase_1.47.1.tar.gz PackageFileSize: 8.642 KiB