Package: interactiveDisplayBase Version: 1.47.1 Command: /home/biocbuild/bbs-3.22-bioc/R/bin/R CMD INSTALL interactiveDisplayBase StartedAt: 2025-07-01 15:13:48 -0400 (Tue, 01 Jul 2025) EndedAt: 2025-07-01 15:13:51 -0400 (Tue, 01 Jul 2025) EllapsedTime: 2.9 seconds RetCode: 0 Status: OK