Package: katdetectr Version: 1.11.1 Command: /home/biocbuild/bbs-3.22-bioc/R/bin/R CMD build --keep-empty-dirs --no-resave-data --md5 katdetectr StartedAt: 2025-10-15 18:26:39 -0400 (Wed, 15 Oct 2025) EndedAt: 2025-10-15 18:27:54 -0400 (Wed, 15 Oct 2025) EllapsedTime: 75.1 seconds RetCode: 0 Status: OK PackageFile: katdetectr_1.11.1.tar.gz PackageFileSize: 1.361 MiB