Package: katdetectr Version: 1.11.1 Command: /home/biocbuild/bbs-3.22-bioc/R/bin/R CMD INSTALL katdetectr StartedAt: 2025-10-14 15:42:05 -0400 (Tue, 14 Oct 2025) EndedAt: 2025-10-14 15:42:44 -0400 (Tue, 14 Oct 2025) EllapsedTime: 39.0 seconds RetCode: 0 Status: OK