Package: limmaGUI Version: 1.85.0 Command: /home/biocbuild/bbs-3.22-bioc/R/bin/R CMD INSTALL limmaGUI StartedAt: 2025-10-07 15:04:17 -0400 (Tue, 07 Oct 2025) EndedAt: 2025-10-07 15:04:45 -0400 (Tue, 07 Oct 2025) EllapsedTime: 28.1 seconds RetCode: 0 Status: OK