Package: linkSet Version: 0.99.19 Command: /home/biocbuild/bbs-3.22-bioc/R/bin/R CMD INSTALL linkSet StartedAt: 2025-10-08 15:58:10 -0400 (Wed, 08 Oct 2025) EndedAt: 2025-10-08 15:59:04 -0400 (Wed, 08 Oct 2025) EllapsedTime: 53.9 seconds RetCode: 0 Status: OK