Package: m6Aboost Version: 1.15.1 Command: /home/biocbuild/bbs-3.22-bioc/R/bin/R CMD build --keep-empty-dirs --no-resave-data --md5 m6Aboost StartedAt: 2025-10-16 19:24:58 -0400 (Thu, 16 Oct 2025) EndedAt: 2025-10-16 19:26:16 -0400 (Thu, 16 Oct 2025) EllapsedTime: 78.1 seconds RetCode: 0 Status: OK PackageFile: m6Aboost_1.15.1.tar.gz PackageFileSize: 759.5 KiB