Package: m6Aboost Version: 1.15.1 Command: /home/biocbuild/bbs-3.22-bioc/R/bin/R CMD INSTALL m6Aboost StartedAt: 2025-10-16 16:59:10 -0400 (Thu, 16 Oct 2025) EndedAt: 2025-10-16 16:59:57 -0400 (Thu, 16 Oct 2025) EllapsedTime: 47.3 seconds RetCode: 0 Status: OK