Package: maPredictDSC Version: 1.47.0 Command: /home/biocbuild/bbs-3.22-bioc/R/bin/R CMD INSTALL maPredictDSC StartedAt: 2025-10-23 15:26:25 -0400 (Thu, 23 Oct 2025) EndedAt: 2025-10-23 15:26:49 -0400 (Thu, 23 Oct 2025) EllapsedTime: 23.3 seconds RetCode: 0 Status: OK