Package: metabomxtr Version: 1.43.0 Command: /home/biocbuild/bbs-3.22-bioc/R/bin/R CMD build --keep-empty-dirs --no-resave-data --md5 metabomxtr StartedAt: 2025-10-03 18:29:58 -0400 (Fri, 03 Oct 2025) EndedAt: 2025-10-03 18:30:28 -0400 (Fri, 03 Oct 2025) EllapsedTime: 30.0 seconds RetCode: 0 Status: OK PackageFile: metabomxtr_1.43.0.tar.gz PackageFileSize: 562.8 KiB