Package: metabomxtr Version: 1.43.0 Command: /home/biocbuild/bbs-3.22-bioc/R/bin/R CMD INSTALL metabomxtr StartedAt: 2025-10-03 15:11:20 -0400 (Fri, 03 Oct 2025) EndedAt: 2025-10-03 15:11:30 -0400 (Fri, 03 Oct 2025) EllapsedTime: 9.7 seconds RetCode: 0 Status: OK