Package: methodical Version: 1.5.0 Command: /home/biocbuild/bbs-3.22-bioc/R/bin/R CMD INSTALL methodical StartedAt: 2025-10-08 15:57:27 -0400 (Wed, 08 Oct 2025) EndedAt: 2025-10-08 15:58:20 -0400 (Wed, 08 Oct 2025) EllapsedTime: 52.7 seconds RetCode: 0 Status: OK