Package: methylInheritance Version: 1.35.0 Command: /Library/Frameworks/R.framework/Resources/bin/R CMD build --keep-empty-dirs --no-resave-data methylInheritance StartedAt: 2025-11-17 17:51:59 -0500 (Mon, 17 Nov 2025) EndedAt: 2025-11-17 17:53:25 -0500 (Mon, 17 Nov 2025) EllapsedTime: 86.8 seconds RetCode: 0 Status: OK PackageFile: methylInheritance_1.35.0.tar.gz PackageFileSize: 1.707 MiB