Package: methylInheritance Version: 1.35.0 Command: /Library/Frameworks/R.framework/Resources/bin/R CMD INSTALL methylInheritance StartedAt: 2025-11-17 15:30:36 -0500 (Mon, 17 Nov 2025) EndedAt: 2025-11-17 15:31:27 -0500 (Mon, 17 Nov 2025) EllapsedTime: 51.1 seconds RetCode: 0 Status: OK