Package: methylInheritance Version: 1.33.0 Command: /home/biocbuild/bbs-3.22-bioc/R/bin/R CMD build --keep-empty-dirs --no-resave-data --md5 methylInheritance StartedAt: 2025-07-23 18:17:40 -0400 (Wed, 23 Jul 2025) EndedAt: 2025-07-23 18:19:01 -0400 (Wed, 23 Jul 2025) EllapsedTime: 81.1 seconds RetCode: 0 Status: OK PackageFile: methylInheritance_1.33.0.tar.gz PackageFileSize: 1.713 MiB