Package: methylInheritance Version: 1.33.0 Command: /home/biocbuild/bbs-3.22-bioc/R/bin/R CMD INSTALL methylInheritance StartedAt: 2025-07-21 15:33:26 -0400 (Mon, 21 Jul 2025) EndedAt: 2025-07-21 15:34:03 -0400 (Mon, 21 Jul 2025) EllapsedTime: 37.0 seconds RetCode: 0 Status: OK