Package: motifStack Version: 1.55.0 Command: rm -rf motifStack.buildbin-libdir && mkdir motifStack.buildbin-libdir && /Users/biocbuild/BBS/utils/build-universal.sh motifStack_1.55.0.tar.gz /Library/Frameworks/R.framework/Resources/bin/R motifStack.buildbin-libdir StartedAt: 2025-11-18 00:42:43 -0500 (Tue, 18 Nov 2025) EndedAt: 2025-11-18 00:43:06 -0500 (Tue, 18 Nov 2025) EllapsedTime: 23.5 seconds RetCode: 0 Status: OK PackageFile: motifStack_1.55.0.tgz PackageFileSize: 4.463 MiB