Package: motifStack Version: 1.55.0 Command: /Library/Frameworks/R.framework/Resources/bin/R CMD build --keep-empty-dirs --no-resave-data motifStack StartedAt: 2025-11-17 17:51:05 -0500 (Mon, 17 Nov 2025) EndedAt: 2025-11-17 17:51:51 -0500 (Mon, 17 Nov 2025) EllapsedTime: 45.5 seconds RetCode: 0 Status: OK PackageFile: motifStack_1.55.0.tar.gz PackageFileSize: 3.581 MiB