Package: motifStack Version: 1.55.0 Command: /Library/Frameworks/R.framework/Resources/bin/R CMD INSTALL motifStack StartedAt: 2025-11-17 15:27:09 -0500 (Mon, 17 Nov 2025) EndedAt: 2025-11-17 15:27:28 -0500 (Mon, 17 Nov 2025) EllapsedTime: 19.0 seconds RetCode: 0 Status: OK