Package: msgbsR Version: 1.33.1 Command: /home/biocbuild/bbs-3.22-bioc/R/bin/R CMD INSTALL msgbsR StartedAt: 2025-10-02 15:53:35 -0400 (Thu, 02 Oct 2025) EndedAt: 2025-10-02 15:54:37 -0400 (Thu, 02 Oct 2025) EllapsedTime: 62.3 seconds RetCode: 0 Status: OK